BEGIN:VCALENDAR
VERSION:2.0
PRODID:-//wp-events-plugin.com//7.2.3.1//EN
BEGIN:VEVENT
UID:2@march-lions.org.uk
DTSTART:20240702T190000Z
DTEND:20740703T203000Z
DTSTAMP:20251209T151526Z
URL:https://march-lions.org.uk/events/club-meeting/
SUMMARY:Club Meeting
DESCRIPTION:Our meetings are held on the first Tuesday of every month (excl
 uding December) at 7pm in the Community Room at FACT\, 5 Martin Avenue (be
 hind Aldi)\n\nWe welcome any prospective new members. If you are intereste
 d in attending one of our meetings\, please do Contact Us.
CATEGORIES:Club Meeting
LOCATION:FACT Community Room\, 5 Martin Avenue\, March\, Cambridgeshire\, P
 E15 0AY\, United Kingdom
X-APPLE-STRUCTURED-LOCATION;VALUE=URI;X-ADDRESS=5 Martin Avenue\, March\, C
 ambridgeshire\, PE15 0AY\, United Kingdom;X-APPLE-RADIUS=100;X-TITLE=FACT 
 Community Room:geo:0,0
END:VEVENT
END:VCALENDAR