BEGIN:VCALENDAR
VERSION:2.0
PRODID:-//wp-events-plugin.com//7.2.3.1//EN
BEGIN:VEVENT
UID:1@march-lions.org.uk
DTSTART:20251024T190000Z
DTEND:20251024T223000Z
DTSTAMP:20250804T065920Z
URL:https://march-lions.org.uk/events/tasting-night-with-fenspirits-distil
 lery/
SUMMARY:Tasting Night with Fenspirits Distillery
DESCRIPTION:Join us for an evening of spirit sampling with Fen Spirits\, as
  we explore:\n\n 	Vodka\, Gin\, and Rum – Discover the unique flavors an
 d learn about the production process.\n 	Rum’s Rich Heritage and Craftsm
 anship – Uncover the fascinating history behind this beloved spirit.\n 	
 Plus\, 3 Miscellaneous Spirits to surprise your palate!\n 	Buffet Included
 ! Enjoy a delicious buffet while mingling with fellow spirit enthusiasts.\
 n\nFen Spirits is a small local distillery who ferment and distil all thei
 r our products from scratch\, using only real natural ingredients. These e
 vents are not only great fun but also a wonderful way to help raise funds 
 to allow us to continue to support local causes. Everyone is welcome!\n\nT
 ickets are £25 per person\, and can be booked by emailing fundraising@mar
 ch-lions.org.uk or by messaging us on our Facebook page.\n\nWe look forwar
 d to seeing you there!\n\n
LOCATION:March Con Club\, 14 Creek Road\, March\, Cambridgeshire\, PE15 8RD
 \, United Kingdom
X-APPLE-STRUCTURED-LOCATION;VALUE=URI;X-ADDRESS=14 Creek Road\, March\, Cam
 bridgeshire\, PE15 8RD\, United Kingdom;X-APPLE-RADIUS=100;X-TITLE=March C
 on Club:geo:0,0
END:VEVENT
END:VCALENDAR